BEGIN:VCALENDAR
VERSION:2.0
PRODID:-//pretix//pretix.eu//
BEGIN:VTIMEZONE
TZID:Europe/Berlin
BEGIN:STANDARD
DTSTART:20001029T040000
RRULE:FREQ=YEARLY;BYDAY=-1SU;BYMONTH=10
TZNAME:CET
TZOFFSETFROM:+0200
TZOFFSETTO:+0100
END:STANDARD
BEGIN:DAYLIGHT
DTSTART:20000326T030000
RRULE:FREQ=YEARLY;BYDAY=-1SU;BYMONTH=3
TZNAME:CEST
TZOFFSETFROM:+0100
TZOFFSETTO:+0200
END:DAYLIGHT
END:VTIMEZONE
BEGIN:VEVENT
UID:pretix-cwc-bommersheim-form-freiestanzen-4079949@cwc-bommersheim.verein
 sticket.de
DTSTART;TZID=Europe/Berlin:20240209T194500
DTEND;TZID=Europe/Berlin:20240209T214500
DESCRIPTION:Tickets: https://cwc-bommersheim.vereinsticket.de/form-freiesta
 nzen/4079949/\nVeranstalter: Country & Western-Club Bommersheim e.V.
DTSTAMP:20260420T083530Z
LOCATION:CWC Bommersheim Kieskaut Ranch\, An den Kieskauten\, 61440 Oberurs
 el
SUMMARY:Freies Tanzen Februar
END:VEVENT
END:VCALENDAR
